BEGIN:VCALENDAR
VERSION:2.0
PRODID:-//The Ashby Bar &amp; Bistro - ECPv6.15.20//NONSGML v1.0//EN
CALSCALE:GREGORIAN
METHOD:PUBLISH
X-WR-CALNAME:The Ashby Bar &amp; Bistro
X-ORIGINAL-URL:https://www.theashbybarandbistro.com.au
X-WR-CALDESC:Events for The Ashby Bar &amp; Bistro
REFRESH-INTERVAL;VALUE=DURATION:PT1H
X-Robots-Tag:noindex
X-PUBLISHED-TTL:PT1H
BEGIN:VTIMEZONE
TZID:Australia/Perth
BEGIN:STANDARD
TZOFFSETFROM:+0800
TZOFFSETTO:+0800
TZNAME:AWST
DTSTART:20250101T000000
END:STANDARD
END:VTIMEZONE
BEGIN:VEVENT
DTSTART;TZID=Australia/Perth:20260321T200000
DTEND;TZID=Australia/Perth:20260321T230000
DTSTAMP:20260421T025946
CREATED:20260213T031227Z
LAST-MODIFIED:20260213T031227Z
UID:14904-1774123200-1774134000@www.theashbybarandbistro.com.au
SUMMARY:Daren Reid and the Soul City Groove – Live at The Ashby!
DESCRIPTION:Daren Reid and the Soul City Groove – Live at The Ashby!Get ready for an unforgettable night of live music with Daren Reid and the Soul City Groove at The Ashby! Join us in the Sports Bar on Saturday\, 21st March\, from 8pm\, and experience an electric performance packed with all your favourite hits. Date: Saturday\, 21st March Time: 8pm Venue: The Brook Sports Bar Entry: FreeDon’t miss out on this epic night of soul\, groove\, and good vibes! 
URL:https://www.theashbybarandbistro.com.au/event/daren-reid-and-the-soul-city-groove-live-at-the-ashby/
ATTACH;FMTTYPE=image/jpeg:https://www.theashbybarandbistro.com.au/wp-content/uploads/2026/02/ABB-Daren-Ried-TV-Graphic-1_2026-1.jpg
END:VEVENT
BEGIN:VEVENT
DTSTART;TZID=Australia/Perth:20260415T183000
DTEND;TZID=Australia/Perth:20260415T213000
DTSTAMP:20260421T025946
CREATED:20260316T022946Z
LAST-MODIFIED:20260316T022946Z
UID:14913-1776277800-1776288600@www.theashbybarandbistro.com.au
SUMMARY:Stranger Things Quiz Night
DESCRIPTION:Calling all Stranger Things fans — it’s time to test your knowledge of the upside down at the Stranger Things Quiz Night at The Ashby! \nJoin us on Wednesday 15th April for a mysterious night of trivia\, from monsters to lab testing. The quiz kicks off at 6:30pm\, entry is free\, and costumes are highly encouraged. \nRound up your team\, dress as your favourite character\, and compete for prizes and ultimate bragging rights. Bookings are essential — click here to book\, lock in your table and get ready for a night of laughs and trivia at The Ashby!
URL:https://www.theashbybarandbistro.com.au/event/stranger-things-quiz-night/
ATTACH;FMTTYPE=image/jpeg:https://www.theashbybarandbistro.com.au/wp-content/uploads/2026/03/Stranger-Things-Quiz-Nightlife-Graphic-3_2026.jpg
END:VEVENT
BEGIN:VEVENT
DTSTART;TZID=Australia/Perth:20260505T183000
DTEND;TZID=Australia/Perth:20260505T213000
DTSTAMP:20260421T025946
CREATED:20260414T013637Z
LAST-MODIFIED:20260414T013637Z
UID:14940-1778005800-1778016600@www.theashbybarandbistro.com.au
SUMMARY:Star Wars Quiz Night
DESCRIPTION:Gather your fellow Jedi masters\, Sith lords\, and droids for a chance to showcase your knowledge of the galaxy far\, far away. \nDate: Tuesday May 5th\nTime: Registration opens at 6:30 PM for a 7PM start\nWhere: The Sports Bar at The Ashby Bar and Bistro \nExciting prizes await the victorious teams\, so bring your A-game and may the Force be with you! \nAdmission is free\, but reservations are essential to guarantee your participation. Click here to book! \n 
URL:https://www.theashbybarandbistro.com.au/event/star-wars-quiz-night/
ATTACH;FMTTYPE=image/jpeg:https://www.theashbybarandbistro.com.au/wp-content/uploads/2026/04/ABB-Starwars-Quiz-Graphic-4_2026.jpg
END:VEVENT
BEGIN:VEVENT
DTSTART;VALUE=DATE:20260510
DTEND;VALUE=DATE:20260511
DTSTAMP:20260421T025946
CREATED:20260330T021740Z
LAST-MODIFIED:20260330T022128Z
UID:14930-1778371200-1778457599@www.theashbybarandbistro.com.au
SUMMARY:Mother's Day
DESCRIPTION:Spoil your Mum this Mother’s Day! \nBook Mother’s Day Breakfast\, A La Carte lunch or dinner in the bistro this Mother’s Day at the Ashby! With bookings available from 8am\, spoil Mum with a delicious meal and maybe even a cocktail or two to celebrate! \nAll Mum’s will receive raffle ticket to go into our Hamper draw on the day if booked in the Bistro! \nFor Breakfast click here to book\, for Lunch click here to book or click here for dinner!
URL:https://www.theashbybarandbistro.com.au/event/mothers-day/
ATTACH;FMTTYPE=image/jpeg:https://www.theashbybarandbistro.com.au/wp-content/uploads/2026/03/ABB-Mothers-day-TV-Graphic-3_26-1.jpg
END:VEVENT
BEGIN:VEVENT
DTSTART;TZID=Australia/Perth:20260516T200000
DTEND;TZID=Australia/Perth:20260516T233000
DTSTAMP:20260421T025946
CREATED:20260102T015426Z
LAST-MODIFIED:20260330T010747Z
UID:14880-1778961600-1778974200@www.theashbybarandbistro.com.au
SUMMARY:Line Dancing at the Ashby
DESCRIPTION:Boot Scootin’ at The Ashby! \nDust off those cowboy boots and round up your mates for a night of dancing\, laughs\, and good times! \nJoin us in the Sports Bar on Saturday 16th May from 8pm for Boot Scootin’ at The Ashby with the crew from Kind Lines Dance Co leading the way.\n​​​​​​​\nIt’s the perfect chance to kick up your heels and try something new – no experience needed\, just bring your best moves and plenty of energy!
URL:https://www.theashbybarandbistro.com.au/event/line-dancing-at-the-ashby/
ATTACH;FMTTYPE=image/png:https://www.theashbybarandbistro.com.au/wp-content/uploads/2026/01/Line-Dancing-The-Ashby-Big-Screens-1-1.png
END:VEVENT
END:VCALENDAR