BEGIN:VCALENDAR
VERSION:2.0
PRODID:-//The Ashby Bar &amp; Bistro - ECPv6.15.20//NONSGML v1.0//EN
CALSCALE:GREGORIAN
METHOD:PUBLISH
X-WR-CALNAME:The Ashby Bar &amp; Bistro
X-ORIGINAL-URL:https://www.theashbybarandbistro.com.au
X-WR-CALDESC:Events for The Ashby Bar &amp; Bistro
REFRESH-INTERVAL;VALUE=DURATION:PT1H
X-Robots-Tag:noindex
X-PUBLISHED-TTL:PT1H
BEGIN:VTIMEZONE
TZID:Australia/Perth
BEGIN:STANDARD
TZOFFSETFROM:+0800
TZOFFSETTO:+0800
TZNAME:AWST
DTSTART:20250101T000000
END:STANDARD
END:VTIMEZONE
BEGIN:VEVENT
DTSTART;TZID=Australia/Perth:20260505T183000
DTEND;TZID=Australia/Perth:20260505T213000
DTSTAMP:20260420T210636
CREATED:20260414T013637Z
LAST-MODIFIED:20260414T013637Z
UID:14940-1778005800-1778016600@www.theashbybarandbistro.com.au
SUMMARY:Star Wars Quiz Night
DESCRIPTION:Gather your fellow Jedi masters\, Sith lords\, and droids for a chance to showcase your knowledge of the galaxy far\, far away. \nDate: Tuesday May 5th\nTime: Registration opens at 6:30 PM for a 7PM start\nWhere: The Sports Bar at The Ashby Bar and Bistro \nExciting prizes await the victorious teams\, so bring your A-game and may the Force be with you! \nAdmission is free\, but reservations are essential to guarantee your participation. Click here to book! \n 
URL:https://www.theashbybarandbistro.com.au/event/star-wars-quiz-night/
ATTACH;FMTTYPE=image/jpeg:https://www.theashbybarandbistro.com.au/wp-content/uploads/2026/04/ABB-Starwars-Quiz-Graphic-4_2026.jpg
END:VEVENT
END:VCALENDAR