BEGIN:VCALENDAR
VERSION:2.0
PRODID:-//The Ashby Bar &amp; Bistro - ECPv6.15.20//NONSGML v1.0//EN
CALSCALE:GREGORIAN
METHOD:PUBLISH
X-ORIGINAL-URL:https://www.theashbybarandbistro.com.au
X-WR-CALDESC:Events for The Ashby Bar &amp; Bistro
REFRESH-INTERVAL;VALUE=DURATION:PT1H
X-Robots-Tag:noindex
X-PUBLISHED-TTL:PT1H
BEGIN:VTIMEZONE
TZID:Australia/Perth
BEGIN:STANDARD
TZOFFSETFROM:+0800
TZOFFSETTO:+0800
TZNAME:AWST
DTSTART:20250101T000000
END:STANDARD
END:VTIMEZONE
BEGIN:VEVENT
DTSTART;TZID=Australia/Perth:20260311T183000
DTEND;TZID=Australia/Perth:20260311T213000
DTSTAMP:20260421T001244
CREATED:20260205T032846Z
LAST-MODIFIED:20260205T032922Z
UID:14899-1773253800-1773264600@www.theashbybarandbistro.com.au
SUMMARY:Seinfeld Quiz Night
DESCRIPTION:Calling all Seinfeld fans — it’s time to test your knowledge of the show about nothing at Seinfeld Quiz Night at The Ashby! \nJoin us on Wednesday 11th March for a hilarious night of trivia\, from classic episodes to memorable quotes. The quiz kicks off at 6:30pm\, entry is free\, and costumes are highly encouraged. \nRound up your team\, dress as your favourite character\, and compete for prizes and ultimate bragging rights. Bookings are essential — lock in your table and get ready for a night of laughs and trivia at The Ashby! \nClick here to book!
URL:https://www.theashbybarandbistro.com.au/event/seinfeld-quiz-night/
ATTACH;FMTTYPE=image/jpeg:https://www.theashbybarandbistro.com.au/wp-content/uploads/2026/02/ABB-Seinfeld-Quiz-TV-Graphic-2_2026.jpg
END:VEVENT
END:VCALENDAR